BEGIN:VCALENDAR
VERSION:2.0
PRODID:-//PAM COOLJC - ECPv6.15.20//NONSGML v1.0//EN
CALSCALE:GREGORIAN
METHOD:PUBLISH
X-ORIGINAL-URL:https://pamcooljc.org
X-WR-CALDESC:Events for PAM COOLJC
REFRESH-INTERVAL;VALUE=DURATION:PT1H
X-Robots-Tag:noindex
X-PUBLISHED-TTL:PT1H
BEGIN:VTIMEZONE
TZID:UTC
BEGIN:STANDARD
TZOFFSETFROM:+0000
TZOFFSETTO:+0000
TZNAME:UTC
DTSTART:20220101T000000
END:STANDARD
END:VTIMEZONE
BEGIN:VTIMEZONE
TZID:America/New_York
BEGIN:DAYLIGHT
TZOFFSETFROM:-0500
TZOFFSETTO:-0400
TZNAME:EDT
DTSTART:20240310T070000
END:DAYLIGHT
BEGIN:STANDARD
TZOFFSETFROM:-0400
TZOFFSETTO:-0500
TZNAME:EST
DTSTART:20241103T060000
END:STANDARD
BEGIN:DAYLIGHT
TZOFFSETFROM:-0500
TZOFFSETTO:-0400
TZNAME:EDT
DTSTART:20250309T070000
END:DAYLIGHT
BEGIN:STANDARD
TZOFFSETFROM:-0400
TZOFFSETTO:-0500
TZNAME:EST
DTSTART:20251102T060000
END:STANDARD
BEGIN:DAYLIGHT
TZOFFSETFROM:-0500
TZOFFSETTO:-0400
TZNAME:EDT
DTSTART:20260308T070000
END:DAYLIGHT
BEGIN:STANDARD
TZOFFSETFROM:-0400
TZOFFSETTO:-0500
TZNAME:EST
DTSTART:20261101T060000
END:STANDARD
END:VTIMEZONE
BEGIN:VEVENT
DTSTART;VALUE=DATE:20251108
DTEND;VALUE=DATE:20251109
DTSTAMP:20260423T184111
CREATED:20250919T121218Z
LAST-MODIFIED:20250919T121218Z
UID:1908-1762560000-1762646399@pamcooljc.org
SUMMARY:Mother Linda Grinage's Appreciation Luncheon
DESCRIPTION:Celebrating our Missionary President for over 30 years of service in the state of Pennsylvania!
URL:https://pamcooljc.org/event/mother-linda-grinages-appreciation-luncheon/
LOCATION:Best Western Premier Hotel\, 800 East Park Drive\, Harrisburg\, PA\, 17111\, United States
ATTACH;FMTTYPE=image/jpeg:https://pamcooljc.org/wp-content/uploads/2025/09/IMG_2254.jpeg
END:VEVENT
BEGIN:VEVENT
DTSTART;VALUE=DATE:20251107
DTEND;VALUE=DATE:20251109
DTSTAMP:20260423T184111
CREATED:20250919T121641Z
LAST-MODIFIED:20250919T121641Z
UID:1913-1762473600-1762646399@pamcooljc.org
SUMMARY:PA Allegheny Diocese Meeting
DESCRIPTION:
URL:https://pamcooljc.org/event/pa-allegheny-diocese-meeting/
LOCATION:Best Western Premier Hotel\, 800 East Park Drive\, Harrisburg\, PA\, 17111\, United States
ATTACH;FMTTYPE=image/jpeg:https://pamcooljc.org/wp-content/uploads/2025/09/Meeting-Space-8_C0F6D1F7-A0C7-4A72-BC5DCC110BB898A6_bf128aa5-5e46-4c55-b294f0de684438e9.jpg
END:VEVENT
BEGIN:VEVENT
DTSTART;TZID=UTC:20250927T100000
DTEND;TZID=UTC:20250927T190000
DTSTAMP:20260423T184111
CREATED:20250919T123351Z
LAST-MODIFIED:20250919T140843Z
UID:1920-1758967200-1758999600@pamcooljc.org
SUMMARY:Region III Conference
DESCRIPTION:The Church in the Midst of the Chaos | 1 Chronicles 12:32
URL:https://pamcooljc.org/event/region-iii-conference-2025/
LOCATION:Transformation Church of Jesus Christ\, 5150 Baltimore National Pike\, Baltiomore\, MD\, 21229\, United States
ATTACH;FMTTYPE=image/jpeg:https://pamcooljc.org/wp-content/uploads/2025/09/Region-3-Flyer.jpg
ORGANIZER;CN="Apostle Fred Rubin":MAILTO:Cooljcregion3mediateam@gmail.com
END:VEVENT
BEGIN:VEVENT
DTSTART;VALUE=DATE:20250723
DTEND;VALUE=DATE:20250728
DTSTAMP:20260423T184111
CREATED:20250305T122721Z
LAST-MODIFIED:20250305T122721Z
UID:1884-1753228800-1753660799@pamcooljc.org
SUMMARY:COOLJC 106th International Holy Convocation
DESCRIPTION:Join us in Greensboro\, NC for the 106th COOLJC’s International Holy Convocation in July 23-27\, 2025!
URL:https://pamcooljc.org/event/cooljc-106th-international-holy-convocation/
LOCATION:Sheraton Greensboro at Four Seasons\, 3121 W Gate City Blvd\, Greensboro\, NC\, 27407\, United States
ATTACH;FMTTYPE=image/jpeg:https://pamcooljc.org/wp-content/uploads/2025/03/469835655_1007488244757902_190762358801566236_n.jpg
END:VEVENT
BEGIN:VEVENT
DTSTART;VALUE=DATE:20240724
DTEND;VALUE=DATE:20240729
DTSTAMP:20260423T184111
CREATED:20231107T181514Z
LAST-MODIFIED:20231107T181514Z
UID:1738-1721779200-1722211199@pamcooljc.org
SUMMARY:COOLJC 105th International Holy Convocation
DESCRIPTION:Join us for the 105th Holy Convocation at the luxurious Rosen Shingle Creek Hotel in Orlando! Reserve your hotel now and experience a truly inspiring event in a stunning setting. Book your stay today at the Rosen Shingle Creek for an unforgettable experience.
URL:https://pamcooljc.org/event/cooljc-105th-international-holy-convocation/
LOCATION:Rosen Shingle Creek\, 9939 Universal Blvd\, Orlando\, FL\, 32819\, United States
ATTACH;FMTTYPE=image/jpeg:https://pamcooljc.org/wp-content/uploads/2023/11/368634469_694225886084141_5683351998814006308_n.jpg
END:VEVENT
BEGIN:VEVENT
DTSTART;VALUE=DATE:20231202
DTEND;VALUE=DATE:20231203
DTSTAMP:20260423T184111
CREATED:20231107T180536Z
LAST-MODIFIED:20231107T193131Z
UID:1729-1701475200-1701561599@pamcooljc.org
SUMMARY:COOLJC Region III Conference
DESCRIPTION:Save the Date! COOLJC Region III is hosting its annual Regional Conference in the Garden State of New Jersey on December 2nd\, 2023 located at Grace Cathedral Fellowship Ministries! Our theme is “We Are Better Together”.
URL:https://pamcooljc.org/event/region-iii-conference/
LOCATION:Grace Cathedral Fellowship Ministries\, 1217 Calhoun Street\, Trenton\, NJ\, 08638\, United States
ATTACH;FMTTYPE=image/jpeg:https://pamcooljc.org/wp-content/uploads/2023/11/Region-III-Conference.jpg
ORGANIZER;CN="Apostle Fred Rubin":MAILTO:Cooljcregion3mediateam@gmail.com
END:VEVENT
BEGIN:VEVENT
DTSTART;TZID=UTC:20231118T090000
DTEND;TZID=UTC:20231118T140000
DTSTAMP:20260423T184111
CREATED:20231107T164205Z
LAST-MODIFIED:20231107T173625Z
UID:1719-1700298000-1700316000@pamcooljc.org
SUMMARY:PA Allegheny District Fellowship
DESCRIPTION:Join us our first Pennsylvania Allegheny District Fellowship Service on November 18\, 2023\, starting at 9 am! \nAll churches are expected to report for this district fellowship conference. For more details and information\, don’t hesitate to get in touch with our Diocesan Bishop Jorge Aldae at the phone number listed on the right.
URL:https://pamcooljc.org/event/pa-allegheny-district-fellowship/
LOCATION:Greater Emmanuel Temple Church\, 296 Pemberton Road\, Kennett Square\, PA\, 19348\, United States
ATTACH;FMTTYPE=image/png:https://pamcooljc.org/wp-content/uploads/2023/11/Greater-Emmanuel-Temple.png
END:VEVENT
END:VCALENDAR